BEGIN:VCALENDAR
VERSION:2.0
PRODID:-//ChamberMaster//Event Calendar 2.0//EN
METHOD:PUBLISH
X-PUBLISHED-TTL:P3D
REFRESH-INTERVAL:P3D
CALSCALE:GREGORIAN
BEGIN:VEVENT
DTSTART:20190913T183000Z
DTEND:20190913T193000Z
X-MICROSOFT-CDO-ALLDAYEVENT:FALSE
SUMMARY:Government Affairs
DESCRIPTION:
X-ALT-DESC;FMTTYPE=text/html:
LOCATION:Lacey South Sound Chamber 3925 8th Ave SE Suite C Lacey\, WA 98503
UID:e.234.2079
SEQUENCE:3
DTSTAMP:20260424T234240Z
URL:http://business.laceysschamber.com/events/details/government-affairs-council-09-13-2019-2079
END:VEVENT

END:VCALENDAR
