BEGIN:VCALENDAR
VERSION:2.0
PRODID:-//ChamberMaster//Event Calendar 2.0//EN
METHOD:PUBLISH
X-PUBLISHED-TTL:P3D
REFRESH-INTERVAL:P3D
CALSCALE:GREGORIAN
BEGIN:VEVENT
DTSTART:20200310T000000Z
DTEND:20200310T013000Z
X-MICROSOFT-CDO-ALLDAYEVENT:FALSE
SUMMARY:5:01 Surge! After-hours: DoxVault & Top Rung Brewery
DESCRIPTION:Join DoxVault at Top Rung Brewery for a 5:01 Surge Afterhours! DoxVault is the South Sound's leading Document Storage company\, with over 15 years of experience. \n\n\n\nDoxVault converts paper files to electronic records\, and serves as a virtual office\, or free-up office space\,to ensure records comply with laws and regulations such as HIPPA. \n\n\n\nDoxVault looks forward to partnering with their neighbor and fellow Chamber Member\, Top Rung to host a 5:01 Surge in their tap room. \n\n\n\nJoin us to learn more about their interesting work\, sample and purchase craft beer\, network and engage with the community!
X-ALT-DESC;FMTTYPE=text/html:<span style="font-size:14px\;"><span style="font-family:arial\;">Join DoxVault at Top Rung Brewery for a 5:01 Surge Afterhours! DoxVault is the South Sound&#39\;s leading Document Storage company\, with over 15 years of experience.&nbsp\;<br />\n<br />\n<span style="color: rgb(65\, 72\, 77)\;">DoxVault converts paper files to electronic records\, and serves as a virtual office\, or free-up office space\,to ensure records comply with laws and regulations such as HIPPA.&nbsp\;<br />\n<br />\nDoxVault looks forward to partnering with their neighbor and fellow Chamber Member\, Top Rung to host a 5:01 Surge in their tap room.&nbsp\;<br />\n<br />\nJoin us to learn more about their interesting work\, sample and purchase craft beer\, network and engage with the community!&nbsp\;</span></span></span>
LOCATION:8343 Hogum Bay Ln NE\, Lacey\, WA 98516
UID:e.234.9594
SEQUENCE:3
DTSTAMP:20260425T233126Z
URL:http://business.laceysschamber.com/events/details/5-01-surge-after-hours-doxvault-top-rung-brewery-9594
END:VEVENT

END:VCALENDAR
